{"text_format":"1","workbook":"xlsx","n_sheets":2,"sheets":["Nameneingabe","ZMTAuswertung"],"not_rendered":{"charts":64,"images":1,"macros":1,"external_links":0,"defined_names":1,"comments":0,"pivot_tables":0},"unopened":[],"bounds":{"document_bytes":16777216,"sheet_cells":100000,"rows_first":2000,"rows_last":500,"rows_between":2000,"halvings":0,"cell_chars":16384,"cell_head_chars":4096},"cells_cut":0,"cells_raw":0,"read":"whole","date_system":"1900"}

{"sheet":"Nameneingabe","index":0,"n_rows":34,"n_cols":4,"rows_kept":34,"cut":false,"hidden":false,"merged":[[0,3,0,7]]}
[null,"Namen eingeben",null,"Version 2.3.2.06.04.2020     "]
[]
[null,1]
[null,2]
[null,3]
[null,4]
[null,5]
[null,6]
[null,7]
[null,8]
[null,9]
[null,10]
[null,11]
[null,12]
[null,13]
[null,14]
[null,15]
[null,16]
[null,17]
[null,18]
[null,19]
[null,20]
[null,21]
[null,22]
[null,23]
[null,24]
[null,25]
[null,26]
[null,27]
[null,28]
[null,29]
[null,30]
[null,31]
[null,32]

{"sheet":"ZMTAuswertung","index":1,"n_rows":441,"n_cols":17,"rows_kept":441,"cut":false,"hidden":false,"merged":[[44,0,48,0],[58,0,62,0],[1,5,1,14],[0,1,0,2],[1,1,1,2],[2,0,6,0],[16,0,20,0],[30,0,34,0],[226,0,230,0],[72,0,76,0],[86,0,90,0],[100,0,104,0],[114,0,118,0],[128,0,132,0],[142,0,146,0],[408,0,412,0],[422,0,426,0],[436,0,440,0],[324,0,328,0],[338,0,342,0],[352,0,356,0],[366,0,370,0],[380,0,384,0],[2,16,7,18],[44,16,49,18],[50,16,57,18],[58,16,63,18],[394,0,398,0],[240,0,244,0],[254,0,258,0],[268,0,272,0],[282,0,286,0],[296,0,300,0],[310,0,314,0],[156,0,160,0],[170,0,174,0],[184,0,188,0],[198,0,202,0],[212,0,216,0],[8,16,15,18],[16,16,21,18],[22,16,29,18],[30,16,35,18],[36,16,43,18],[142,16,147,18],[64,16,71,18],[72,16,77,18],[78,16,85,18],[86,16,91,18],[92,16,99,18],[100,16,105,18],[106,16,113,18],[114,16,119,18],[120,16,127,18],[128,16,133,18],[134,16,141,18],[226,16,231,18],[148,16,155,18],[156,16,161,18],[162,16,169,18],[170,16,175,18],[176,16,183,18],[184,16,189,18],[190,16,197,18],[198,16,203,18],[204,16,211,18],[212,16,217,18],[218,16,225,18],[310,16,315,18],[232,16,239,18],[240,16,245,18],[246,16,253,18],[254,16,259,18],[260,16,267,18],[268,16,273,18],[274,16,281,18],[282,16,287,18],[288,16,295,18],[296,16,301,18],[302,16,309,18],[380,16,385,18],[316,16,323,18],[324,16,329,18],[330,16,337,18],[338,16,343,18],[344,16,351,18],[352,16,357,18],[358,16,365,18],[366,16,371,18],[372,16,379,18],[428,16,435,18],[436,16,441,18],[442,16,449,18],[386,16,393,18],[394,16,399,18],[400,16,407,18],[408,16,413,18],[414,16,421,18],[422,16,427,18]]}
[null,"Gesamtpunktzahl"]
[null,54,null,null,"Thema:","Addition und Subtraktion im Bereich bis 10"]
[{"$f":"IF(Nameneingabe!C3<>\"\",Nameneingabe!C3,\"\")","v":""},"Datum",null,null,null,null,null,null,null,null,null,null,null,null,null,null,1]
[null,"Fehler"]
[null,"Leere"]
[null,"Richtig",{"$f":"IF(COUNTA(C4,C5)=0,\"\",$B$2-(C4+C5))","v":""},{"$f":"IF(COUNTA(D4,D5)=0,\"\",$B$2-(D4+D5))","v":""},"","","","","","","","","","",""]
[null,"Zeit"]
[]
[]
[]
[]
[]
[]
[]
[]
[]
[{"$f":"IF(Nameneingabe!C4<>\"\",Nameneingabe!C4,\"\")","v":""},"Datum",{"$f":"IF(C3=\"\",\"\",C3)","v":""},{"$f":"IF(D3=\"\",\"\",D3)","v":""},"","","","","","","","","","","",null,2]
[null,"Fehler"]
[null,"Leere"]
[null,"Richtig",{"$f":"IF(COUNTA(C18,C19)=0,\"\",$B$2-(C18+C19))","v":""},{"$f":"IF(COUNTA(D18,D19)=0,\"\",$B$2-(D18+D19))","v":""},"","","","","","","","","","",""]
[null,"Zeit"]
[]
[]
[]
[]
[]
[]
[]
[]
[]
[{"$f":"IF(Nameneingabe!C5<>\"\",Nameneingabe!C5,\"\")","v":""},"Datum",{"$f":"IF(C3=\"\",\"\",C3)","v":""},{"$f":"IF(D3=\"\",\"\",D3)","v":""},"","","","","","","","","","","",null,3]
[null,"Fehler"]
[null,"Leere"]
[null,"Richtig",{"$f":"IF(COUNTA(C32,C33)=0,\"\",$B$2-(C32+C33))","v":""},{"$f":"IF(COUNTA(D32,D33)=0,\"\",$B$2-(D32+D33))","v":""},"","","","","","","","","","",""]
[null,"Zeit"]
[]
[]
[]
[]
[]
[]
[]
[]
[]
[{"$f":"IF(Nameneingabe!C6<>\"\",Nameneingabe!C6,\"\")","v":""},"Datum",{"$f":"IF(C3=\"\",\"\",C3)","v":""},{"$f":"IF(D3=\"\",\"\",D3)","v":""},"","","","","","","","","","","",null,4]
[null,"Fehler"]
[null,"Leere"]
[null,"Richtig",{"$f":"IF(COUNTA(C46,C47)=0,\"\",$B$2-(C46+C47))","v":""},{"$f":"IF(COUNTA(D46,D47)=0,\"\",$B$2-(D46+D47))","v":""},"","","","","","","","","","",""]
[null,"Zeit"]
[]
[]
[]
[]
[]
[]
[]
[]
[]
[{"$f":"IF(Nameneingabe!C7<>\"\",Nameneingabe!C7,\"\")","v":""},"Datum",{"$f":"IF(C3=\"\",\"\",C3)","v":""},{"$f":"IF(D3=\"\",\"\",D3)","v":""},"","","","","","","","","","","",null,5]
[null,"Fehler"]
[null,"Leere"]
[null,"Richtig",{"$f":"IF(COUNTA(C60,C61)=0,\"\",$B$2-(C60+C61))","v":""},{"$f":"IF(COUNTA(D60,D61)=0,\"\",$B$2-(D60+D61))","v":""},"","","","","","","","","","",""]
[null,"Zeit"]
[]
[]
[]
[]
[]
[]
[]
[]
[]
[{"$f":"IF(Nameneingabe!C8<>\"\",Nameneingabe!C8,\"\")","v":""},"Datum",{"$f":"IF(C3=\"\",\"\",C3)","v":""},{"$f":"IF(D3=\"\",\"\",D3)","v":""},"","","","","","","","","","","",null,6]
[null,"Fehler"]
[null,"Leere"]
[null,"Richtig",{"$f":"IF(COUNTA(C74,C75)=0,\"\",$B$2-(C74+C75))","v":""},{"$f":"IF(COUNTA(D74,D75)=0,\"\",$B$2-(D74+D75))","v":""},"","","","","","","","","","",""]
[null,"Zeit"]
[]
[]
[]
[]
[]
[]
[]
[]
[]
[{"$f":"IF(Nameneingabe!C9<>\"\",Nameneingabe!C9,\"\")","v":""},"Datum",{"$f":"IF(C3=\"\",\"\",C3)","v":""},{"$f":"IF(D3=\"\",\"\",D3)","v":""},"","","","","","","","","","","",null,7]
[null,"Fehler"]
[null,"Leere"]
[null,"Richtig",{"$f":"IF(COUNTA(C89,C88)=0,\"\",$B$2-(C89+C88))","v":""},{"$f":"IF(COUNTA(D89,D88)=0,\"\",$B$2-(D89+D88))","v":""},"","","","","","","","","","",""]
[null,"Zeit"]
[]
[]
[]
[]
[]
[]
[]
[]
[]
[{"$f":"IF(Nameneingabe!C10<>\"\",Nameneingabe!C10,\"\")","v":""},"Datum",{"$f":"IF(C3=\"\",\"\",C3)","v":""},{"$f":"IF(D3=\"\",\"\",D3)","v":""},"","","","","","","","","","","",null,8]
[null,"Fehler"]
[null,"Leere"]
[null,"Richtig",{"$f":"IF(COUNTA(C103,C102)=0,\"\",$B$2-(C102+C103))","v":""},{"$f":"IF(COUNTA(D103,D102)=0,\"\",$B$2-(D102+D103))","v":""},"","","","","","","","","","",""]
[null,"Zeit"]
[]
[]
[]
[]
[]
[]
[]
[]
[]
[{"$f":"IF(Nameneingabe!C11<>\"\",Nameneingabe!C11,\"\")","v":""},"Datum",{"$f":"IF(C3=\"\",\"\",C3)","v":""},{"$f":"IF(D3=\"\",\"\",D3)","v":""},"","","","","","","","","","","",null,9]
[null,"Fehler"]
[null,"Leere"]
[null,"Richtig",{"$f":"IF(COUNTA(C117,C116)=0,\"\",$B$2-(C117+C116))","v":""},{"$f":"IF(COUNTA(D117,D116)=0,\"\",$B$2-(D117+D116))","v":""},"","","","","","","","","","",""]
[null,"Zeit"]
[]
[]
[]
[]
[]
[]
[]
[]
[]
[{"$f":"IF(Nameneingabe!C12<>\"\",Nameneingabe!C12,\"\")","v":""},"Datum",{"$f":"IF(C3=\"\",\"\",C3)","v":""},{"$f":"IF(D3=\"\",\"\",D3)","v":""},"","","","","","","","","","","",null,10]
[null,"Fehler"]
[null,"Leere"]
[null,"Richtig",{"$f":"IF(COUNTA(C131,C130)=0,\"\",$B$2-(C131+C130))","v":""},{"$f":"IF(COUNTA(D131,D130)=0,\"\",$B$2-(D131+D130))","v":""},"","","","","","","","","","",""]
[null,"Zeit"]
[]
[]
[]
[]
[]
[]
[]
[]
[]
[{"$f":"IF(Nameneingabe!C13<>\"\",Nameneingabe!C13,\"\")","v":""},"Datum",{"$f":"IF(C3=\"\",\"\",C3)","v":""},{"$f":"IF(D3=\"\",\"\",D3)","v":""},"","","","","","","","","","","",null,11]
[null,"Fehler"]
[null,"Leere"]
[null,"Richtig",{"$f":"IF(COUNTA(C145,C144)=0,\"\",$B$2-(C145+C144))","v":""},{"$f":"IF(COUNTA(D145,D144)=0,\"\",$B$2-(D145+D144))","v":""},"","","","","","","","","","",""]
[null,"Zeit"]
[]
[]
[]
[]
[]
[]
[]
[]
[]
[{"$f":"IF(Nameneingabe!C14<>\"\",Nameneingabe!C14,\"\")","v":""},"Datum",{"$f":"IF(C3=\"\",\"\",C3)","v":""},{"$f":"IF(D3=\"\",\"\",D3)","v":""},"","","","","","","","","","","",null,12]
[null,"Fehler"]
[null,"Leere"]
[null,"Richtig",{"$f":"IF(COUNTA(C159,C158)=0,\"\",$B$2-(C159+C158))","v":""},{"$f":"IF(COUNTA(D159,D158)=0,\"\",$B$2-(D159+D158))","v":""},"","","","","","","","","","",""]
[null,"Zeit"]
[]
[]
[]
[]
[]
[]
[]
[]
[]
[{"$f":"IF(Nameneingabe!C15<>\"\",Nameneingabe!C15,\"\")","v":""},"Datum",{"$f":"IF(C3=\"\",\"\",C3)","v":""},{"$f":"IF(D3=\"\",\"\",D3)","v":""},"","","","","","","","","","","",null,13]
[null,"Fehler"]
[null,"Leere"]
[null,"Richtig",{"$f":"IF(COUNTA(C172,C173)=0,\"\",$B$2-(C172+C173))","v":""},{"$f":"IF(COUNTA(D172,D173)=0,\"\",$B$2-(D172+D173))","v":""},"","","","","","","","","","",""]
[null,"Zeit"]
[]
[]
[]
[]
[]
[]
[]
[]
[]
[{"$f":"IF(Nameneingabe!C16<>\"\",Nameneingabe!C16,\"\")","v":""},"Datum",{"$f":"IF(C3=\"\",\"\",C3)","v":""},{"$f":"IF(D3=\"\",\"\",D3)","v":""},"","","","","","","","","","","",null,14]
[null,"Fehler"]
[null,"Leere"]
[null,"Richtig",{"$f":"IF(COUNTA(C186,C187)=0,\"\",$B$2-(C186+C187))","v":""},{"$f":"IF(COUNTA(D186,D187)=0,\"\",$B$2-(D186+D187))","v":""},"","","","","","","","","","",""]
[null,"Zeit"]
[]
[]
[]
[]
[]
[]
[]
[]
[]
[{"$f":"IF(Nameneingabe!C17<>\"\",Nameneingabe!C17,\"\")","v":""},"Datum",{"$f":"IF(C3=\"\",\"\",C3)","v":""},{"$f":"IF(D3=\"\",\"\",D3)","v":""},"","","","","","","","","","","",null,15]
[null,"Fehler"]
[null,"Leere"]
[null,"Richtig",{"$f":"IF(COUNTA(C200,C201)=0,\"\",$B$2-(C200+C201))","v":""},{"$f":"IF(COUNTA(D200,D201)=0,\"\",$B$2-(D200+D201))","v":""},"","","","","","","","","","",""]
[null,"Zeit"]
[]
[]
[]
[]
[]
[]
[]
[]
[]
[{"$f":"IF(Nameneingabe!C18<>\"\",Nameneingabe!C18,\"\")","v":""},"Datum",{"$f":"IF(C3=\"\",\"\",C3)","v":""},{"$f":"IF(D3=\"\",\"\",D3)","v":""},"","","","","","","","","","","",null,16]
[null,"Fehler"]
[null,"Leere"]
[null,"Richtig",{"$f":"IF(COUNTA(C214,C215)=0,\"\",$B$2-(C214+C215))","v":""},{"$f":"IF(COUNTA(D214,D215)=0,\"\",$B$2-(D214+D215))","v":""},"","","","","","","","","","",""]
[null,"Zeit"]
[]
[]
[]
[]
[]
[]
[]
[]
[]
[{"$f":"IF(Nameneingabe!C19<>\"\",Nameneingabe!C19,\"\")","v":""},"Datum",{"$f":"IF(C3=\"\",\"\",C3)","v":""},{"$f":"IF(D3=\"\",\"\",D3)","v":""},{"$f":"IF(E3=\"\",\"\",E3)","v":""},"","","","","","","","","","",null,17]
[null,"Fehler"]
[null,"Leere"]
[null,"Richtig",{"$f":"IF(COUNTA(C228,C229)=0,\"\",$B$2-(C228+C229))","v":""},{"$f":"IF(COUNTA(D228,D229)=0,\"\",$B$2-(D228+D229))","v":""},"","","","","","","","","","",""]
[null,"Zeit"]
[]
[]
[]
[]
[]
[]
[]
[]
[]
[{"$f":"IF(Nameneingabe!C20<>\"\",Nameneingabe!C20,\"\")","v":""},"Datum",{"$f":"IF(C3=\"\",\"\",C3)","v":""},{"$f":"IF(D3=\"\",\"\",D3)","v":""},"","","","","","","","","","","",null,18]
[null,"Fehler"]
[null,"Leere"]
[null,"Richtig",{"$f":"IF(COUNTA(C242,C243)=0,\"\",$B$2-(C242+C243))","v":""},{"$f":"IF(COUNTA(D242,D243)=0,\"\",$B$2-(D242+D243))","v":""},"","","","","","","","","","",""]
[null,"Zeit"]
[]
[]
[]
[]
[]
[]
[]
[]
[]
[{"$f":"IF(Nameneingabe!C21<>\"\",Nameneingabe!C21,\"\")","v":""},"Datum",{"$f":"IF(C3=\"\",\"\",C3)","v":""},{"$f":"IF(D3=\"\",\"\",D3)","v":""},"","","","","","","","","","","",null,19]
[null,"Fehler"]
[null,"Leere"]
[null,"Richtig",{"$f":"IF(COUNTA(C256,C257)=0,\"\",$B$2-(C256+C257))","v":""},{"$f":"IF(COUNTA(D256,D257)=0,\"\",$B$2-(D256+D257))","v":""},"","","","","","","","","","",""]
[null,"Zeit"]
[]
[]
[]
[]
[]
[]
[]
[]
[]
[{"$f":"IF(Nameneingabe!C22<>\"\",Nameneingabe!C22,\"\")","v":""},"Datum",{"$f":"IF(C3=\"\",\"\",C3)","v":""},{"$f":"IF(D3=\"\",\"\",D3)","v":""},"","","","","","","","","","","",null,20]
[null,"Fehler"]
[null,"Leere"]
[null,"Richtig",{"$f":"IF(COUNTA(C270,C271)=0,\"\",$B$2-(C270+C271))","v":""},{"$f":"IF(COUNTA(D270,D271)=0,\"\",$B$2-(D270+D271))","v":""},"","","","","","","","","","",""]
[null,"Zeit"]
[]
[]
[]
[]
[]
[]
[]
[]
[]
[{"$f":"IF(Nameneingabe!C23<>\"\",Nameneingabe!C23,\"\")","v":""},"Datum",{"$f":"IF(C3=\"\",\"\",C3)","v":""},{"$f":"IF(D3=\"\",\"\",D3)","v":""},"","","","","","","","","","","",null,21]
[null,"Fehler"]
[null,"Leere"]
[null,"Richtig",{"$f":"IF(COUNTA(C284,C285)=0,\"\",$B$2-(C284+C285))","v":""},{"$f":"IF(COUNTA(D284,D285)=0,\"\",$B$2-(D284+D285))","v":""},"","","","","","","","","","",""]
[null,"Zeit"]
[]
[]
[]
[]
[]
[]
[]
[]
[]
[{"$f":"IF(Nameneingabe!C24<>\"\",Nameneingabe!C24,\"\")","v":""},"Datum",{"$f":"IF(C3=\"\",\"\",C3)","v":""},{"$f":"IF(D3=\"\",\"\",D3)","v":""},"","","","","","","","","","","",null,22]
[null,"Fehler"]
[null,"Leere"]
[null,"Richtig",{"$f":"IF(COUNTA(C298,C299)=0,\"\",$B$2-(C298+C299))","v":""},{"$f":"IF(COUNTA(D298,D299)=0,\"\",$B$2-(D298+D299))","v":""},"","","","","","","","","","",""]
[null,"Zeit"]
[]
[]
[]
[]
[]
[]
[]
[]
[]
[{"$f":"IF(Nameneingabe!C25<>\"\",Nameneingabe!C25,\"\")","v":""},"Datum",{"$f":"IF(C3=\"\",\"\",C3)","v":""},{"$f":"IF(D3=\"\",\"\",D3)","v":""},"","","","","","","","","","","",null,23]
[null,"Fehler"]
[null,"Leere"]
[null,"Richtig",{"$f":"IF(COUNTA(C312,C313)=0,\"\",$B$2-(C312+C313))","v":""},{"$f":"IF(COUNTA(D312,D313)=0,\"\",$B$2-(D312+D313))","v":""},"","","","","","","","","","",""]
[null,"Zeit"]
[]
[]
[]
[]
[]
[]
[]
[]
[]
[{"$f":"IF(Nameneingabe!C26<>\"\",Nameneingabe!C26,\"\")","v":""},"Datum",{"$f":"IF(C3=\"\",\"\",C3)","v":""},{"$f":"IF(D3=\"\",\"\",D3)","v":""},"","","","","","","","","","","",null,24]
[null,"Fehler"]
[null,"Leere"]
[null,"Richtig",{"$f":"IF(COUNTA(C326,C327)=0,\"\",$B$2-(C326+C327))","v":""},{"$f":"IF(COUNTA(D326,D327)=0,\"\",$B$2-(D326+D327))","v":""},"","","","","","","","","","",""]
[null,"Zeit"]
[]
[]
[]
[]
[]
[]
[]
[]
[]
[{"$f":"IF(Nameneingabe!C27<>\"\",Nameneingabe!C27,\"\")","v":""},"Datum",{"$f":"IF(C3=\"\",\"\",C3)","v":""},{"$f":"IF(D3=\"\",\"\",D3)","v":""},"","","","","","","","","","","",null,25]
[null,"Fehler"]
[null,"Leere"]
[null,"Richtig",{"$f":"IF(COUNTA(C340,C341)=0,\"\",$B$2-(C340+C341))","v":""},{"$f":"IF(COUNTA(D340,D341)=0,\"\",$B$2-(D340+D341))","v":""},"","","","","","","","","","",""]
[null,"Zeit"]
[]
[]
[]
[]
[]
[]
[]
[]
[]
[{"$f":"IF(Nameneingabe!C28<>\"\",Nameneingabe!C28,\"\")","v":""},"Datum",{"$f":"IF(C3=\"\",\"\",C3)","v":""},{"$f":"IF(D3=\"\",\"\",D3)","v":""},"","","","","","","","","","","",null,26]
[null,"Fehler"]
[null,"Leere"]
[null,"Richtig",{"$f":"IF(COUNTA(C354,C355)=0,\"\",$B$2-(C354+C355))","v":""},{"$f":"IF(COUNTA(D354,D355)=0,\"\",$B$2-(D354+D355))","v":""},"","","","","","","","","","",""]
[null,"Zeit"]
[]
[]
[]
[]
[]
[]
[]
[]
[]
[{"$f":"IF(Nameneingabe!C29<>\"\",Nameneingabe!C29,\"\")","v":""},"Datum",{"$f":"IF(C3=\"\",\"\",C3)","v":""},{"$f":"IF(D3=\"\",\"\",D3)","v":""},"","","","","","","","","","","",null,27]
[null,"Fehler"]
[null,"Leere"]
[null,"Richtig",{"$f":"IF(COUNTA(C368,C369)=0,\"\",$B$2-(C368+C369))","v":""},{"$f":"IF(COUNTA(D368,D369)=0,\"\",$B$2-(D368+D369))","v":""},"","","","","","","","","","",""]
[null,"Zeit"]
[]
[]
[]
[]
[]
[]
[]
[]
[]
[{"$f":"IF(Nameneingabe!C30<>\"\",Nameneingabe!C30,\"\")","v":""},"Datum",{"$f":"IF(C3=\"\",\"\",C3)","v":""},{"$f":"IF(D3=\"\",\"\",D3)","v":""},"","","","","","","","","","","",null,28]
[null,"Fehler"]
[null,"Leere"]
[null,"Richtig",{"$f":"IF(COUNTA(C382,C383)=0,\"\",$B$2-(C382+C383))","v":""},{"$f":"IF(COUNTA(D382,D383)=0,\"\",$B$2-(D382+D383))","v":""},"","","","","","","","","","",""]
[null,"Zeit"]
[]
[]
[]
[]
[]
[]
[]
[]
[]
[{"$f":"IF(Nameneingabe!C31<>\"\",Nameneingabe!C31,\"\")","v":""},"Datum",{"$f":"IF(C3=\"\",\"\",C3)","v":""},{"$f":"IF(D3=\"\",\"\",D3)","v":""},"","","","","","","","","","","",null,29]
[null,"Fehler"]
[null,"Leere"]
[null,"Richtig",{"$f":"IF(COUNTA(C396,C397)=0,\"\",$B$2-(C396+C397))","v":""},{"$f":"IF(COUNTA(D396,D397)=0,\"\",$B$2-(D396+D397))","v":""},"","","","","","","","","","",""]
[null,"Zeit"]
[]
[]
[]
[]
[]
[]
[]
[]
[]
[{"$f":"IF(Nameneingabe!C32<>\"\",Nameneingabe!C32,\"\")","v":""},"Datum",{"$f":"IF(C3=\"\",\"\",C3)","v":""},{"$f":"IF(D3=\"\",\"\",D3)","v":""},"","","","","","","","","","","",null,30]
[null,"Fehler"]
[null,"Leere"]
[null,"Richtig",{"$f":"IF(COUNTA(C410,C411)=0,\"\",$B$2-(C410+C411))","v":""},{"$f":"IF(COUNTA(D410,D411)=0,\"\",$B$2-(D410+D411))","v":""},"","","","","","","","","","",""]
[null,"Zeit"]
[]
[]
[]
[]
[]
[]
[]
[]
[]
[{"$f":"IF(Nameneingabe!C33<>\"\",Nameneingabe!C33,\"\")","v":""},"Datum",{"$f":"IF(C3=\"\",\"\",C3)","v":""},{"$f":"IF(D3=\"\",\"\",D3)","v":""},"","","","","","","","","","","",null,31]
[null,"Fehler"]
[null,"Leere"]
[null,"Richtig",{"$f":"IF(COUNTA(C424,C425)=0,\"\",$B$2-(C424+C425))","v":""},{"$f":"IF(COUNTA(D424,D425)=0,\"\",$B$2-(D424+D425))","v":""},"","","","","","","","","","",""]
[null,"Zeit"]
[]
[]
[]
[]
[]
[]
[]
[]
[]
[{"$f":"IF(Nameneingabe!C34<>\"\",Nameneingabe!C34,\"\")","v":""},"Datum",{"$f":"IF(C3=\"\",\"\",C3)","v":""},{"$f":"IF(D3=\"\",\"\",D3)","v":""},"","","","","","","","","","","",null,32]
[null,"Fehler"]
[null,"Leere"]
[null,"Richtig",{"$f":"IF(COUNTA(C438,C439)=0,\"\",$B$2-(C438+C439))","v":""},{"$f":"IF(COUNTA(D438,D439)=0,\"\",$B$2-(D438+D439))","v":""},"","","","","","","","","","",""]
[null,"Zeit"]